BEGIN:VCALENDAR
VERSION:2.0
PRODID:-//ExpressionEngine Easy iCalendar plugin//NONSGML v2.0.1//EN
X-WR-TIMEZONE:America/New_York
X-WR-CALNAME:Upcoming Auctions
BEGIN:VEVENT
UID:89897
DTSTAMP:20221005T190000
DTSTART:20221005T190000
DTEND:20221011T190000
SUMMARY:Ferrum Downsizing Auction
LOCATION:770 Cornell Road\, Rocky Mount\, VA 24151\, US
DESCRIPTION:Ferrum Downsizing Auction  Bidding Opens - Wednesday\, Octob
 er 5th at 7PM Bidding Closes - Tuesday\, October 11th at 7PM 
 Preview/Open - House - Tuesday\, October 11th from 2PM till 5
 :30PM Pickup/Removal - Wednesday\, October 12th from 10AM til
 l 5:30PM  All invoices must be paid within 24 hours of the 
 auction ending. If you don't pickup your item(s) on the sche
 duled pickup day/times a $7 storage fee for items that will 
 fit in a box applies.  Furniture will incur a $20 storage f
 ee. If you purchase a few small items and two pieces of furn
 iture and don't make the scheduled pickup a $27 storage fee 
 will be added to your bill and the card you registered with 
 will be charged. We will hold items until Wednesday\, Sept 30
 th and then the item(s) will be considered forfeited and bec
 ome property of Lucky Dog Auction LLC. Please come get your 
 items\, we don't have the room to store them. No cash/check d
 iscount will be applied if items are not picked up on the sc
 heduled time/date.  Please Note: A 15% buyer premium applie
 s to all purchases\, as does VA sales tax. Receive a 3% disco
 unt off the premium by paying with cash or good check. All s
 ales are final. Everything is sold as-is and where-is. 
URL:https://www.luckydogauction.com/auctions/detail/bw89897
SEQUENCE:1
END:VEVENT
END:VCALENDAR