BEGIN:VCALENDAR
VERSION:2.0
PRODID:-//ExpressionEngine Easy iCalendar plugin//NONSGML v2.0.1//EN
X-WR-TIMEZONE:America/New_York
X-WR-CALNAME:Upcoming Auctions
BEGIN:VEVENT
UID:91066
DTSTAMP:20221114T190000
DTSTART:20221114T190000
DTEND:20221121T190000
SUMMARY:Fall Tool & Equipment Auction - Part 2
LOCATION:770 Cornell Road\, Rocky Mount\, VA 24151\, US
DESCRIPTION:Fall Tool & Equipment Auction - Part II  Bidding Opens - Mo
 nday\, November 14th at 7PM Bidding Closes - Monday\, November
  21st beginning at 7PM - The auction will close at 4 items p
 er minute with one minute extensions.  Preview/Open-House -
  Saturday\, November 19th from 9AM till NOON and Monday\, Nove
 mber 21st from 10AM till 5PM  Pickup/Removal - Tuesday\, Nov
 ember 22nd and Wednesday\, November 23rd from 10AM till 5:30P
 M Please Note: All items are sold as-is and where-is with no
  warranty expressed or implied. A 15% buyer premium applies 
 to all purchases\, as does VA sales tax. Receive a 3% discoun
 t off the premium by paying with cash or good check. 
URL:https://www.luckydogauction.com/auctions/detail/bw91066
SEQUENCE:1
END:VEVENT
END:VCALENDAR