BEGIN:VCALENDAR
VERSION:2.0
PRODID:-//ExpressionEngine Easy iCalendar plugin//NONSGML v2.0.1//EN
X-WR-TIMEZONE:America/New_York
X-WR-CALNAME:Upcoming Auctions
BEGIN:VEVENT
UID:91086
DTSTAMP:20221124T000000
DTSTART:20221124T000000
DTEND:20221208T190000
SUMMARY:Lynchburg Estate Coin Auction
LOCATION:770 Cornell Rd\, Rocky Mount\, VA 24151\, US
DESCRIPTION:Lynchburg Estate Coin Auction  Bidding Opens - Thursday\, No
 vember 24th at 7PM Bidding Closes - Thursday\, December 8th b
 eginning at 7PM Preview/Open-House - Thursday\, December 8th 
 from 2PM till 5PM Pickup/Removal - Friday\, December 9th from
  10AM till 5PM Please Note: All items are sold as-is and whe
 re-is. A 15% buyer premium applies to all purchases\, as does
  VA sales tax. Receive a 3% discount off the premium buy pay
 ing with cash or good check. 
URL:https://www.luckydogauction.com/auctions/detail/bw91086
SEQUENCE:1
END:VEVENT
END:VCALENDAR