BEGIN:VCALENDAR
VERSION:2.0
PRODID:-//ExpressionEngine Easy iCalendar plugin//NONSGML v2.0.1//EN
X-WR-TIMEZONE:America/New_York
X-WR-CALNAME:Upcoming Auctions
BEGIN:VEVENT
UID:91249
DTSTAMP:20221026T190000
DTSTART:20221026T190000
DTEND:20221031T190000
SUMMARY:October Estate/Consignment Auction
LOCATION:770 Cornell Rd\, Rocky Mount\, VA 24151\, US
DESCRIPTION:October Estate/Consignment AuctionÂ  Mixed estates and a few
  consignments! Everything must go! Items still being added!Â
   Bidding Opens - Wednesday\, October 26th at 7PM Bidding Clo
 ses - Monday\, October 31st beginning at 7PM Preview/Open Hou
 se - Monday\, October 31st from 2PM till 5:30PM Removal/Picku
 p - Tuesday\, November 1st from 10AM till 5:30PM Please Note:
  All items are sold as-is and where-is with no warranty expr
 essed or implied. A 15% buyer premium applies to all purchas
 es\, as does VA sales tax. Receive a 3% discount off the prem
 ium by paying with cash or good check.Â 
URL:https://www.luckydogauction.com/auctions/detail/bw91249
SEQUENCE:1
END:VEVENT
END:VCALENDAR