BEGIN:VCALENDAR
VERSION:2.0
PRODID:-//ExpressionEngine Easy iCalendar plugin//NONSGML v2.0.1//EN
X-WR-TIMEZONE:America/New_York
X-WR-CALNAME:Upcoming Auctions
BEGIN:VEVENT
UID:91799
DTSTAMP:20221122T190000
DTSTART:20221122T190000
DTEND:20221202T190000
SUMMARY:Final Gun Auction of 2022
LOCATION:770 Cornell Road\, Rocky Mount\, VA 24151\, US
DESCRIPTION:Final Gun Auction of 2022 Bidding Opens - Tuesday\, November 
 22nd at 7PM Bidding Closes - Friday\, December 2nd beginning 
 at 7PM Preview/Open-House - Friday\, December 2nd from 10AM t
 ill 5:30PM Pickup/Removal - Saturday\, December 3rd from 9AM 
 till 3PM Please Note: All items are sold as-is and where-is 
 with no warranty expressed or implied. A 15% buyer premium a
 pplies to all purchases as does VA sales tax. Receive a 3% d
 iscount off the premium by paying with cash or good check. L
 ucky Dog Auction is a licensed firearms dealer. All state an
 d federal laws apply. 
URL:https://www.luckydogauction.com/auctions/detail/bw91799
SEQUENCE:1
END:VEVENT
END:VCALENDAR