BEGIN:VCALENDAR
VERSION:2.0
PRODID:-//ExpressionEngine Easy iCalendar plugin//NONSGML v2.0.1//EN
X-WR-TIMEZONE:America/New_York
X-WR-CALNAME:Upcoming Auctions
BEGIN:VEVENT
UID:92575
DTSTAMP:20221121T190000
DTSTART:20221121T190000
DTEND:20221128T190000
SUMMARY:Black Friday Auction
LOCATION:770 Cornell Road\, Rocky Mount\, VA 24151\, US
DESCRIPTION:Black Friday Auction Bidding Opens - Monday\, November 21st a
 t 7PM Bidding Closes - Monday\, November 28th at 7PM Preview/
 Open-House - Monday\, November 28th from 2PM till 5:30PM Pick
 up/Removal - Tuesday\, November 29th from 10AM till 5:30PM Pl
 ease Note: All items are sold as-is and where-is with no war
 ranty expressed or implied. A 15% buyer premium applies to a
 ll purchases\, as does VA sales tax. Receive a 3% discount of
 f the premium by paying with cash or good check.
URL:https://www.luckydogauction.com/auctions/detail/bw92575
SEQUENCE:1
END:VEVENT
END:VCALENDAR