BEGIN:VCALENDAR
VERSION:2.0
PRODID:-//ExpressionEngine Easy iCalendar plugin//NONSGML v2.0.1//EN
X-WR-TIMEZONE:America/New_York
X-WR-CALNAME:Upcoming Auctions
BEGIN:VEVENT
UID:92805
DTSTAMP:20221202T190000
DTSTART:20221202T190000
DTEND:20221213T190000
SUMMARY:Collectible Toy Auction
LOCATION:770 Cornell Road\, Rocky Mount\, VA 24151\, US
DESCRIPTION:Collectible Toy Auction  Bidding Opens - Friday\, December 2
 nd at 7PM Bidding Closes - Tuesday\, December 13th beginning 
 at 7PM Preview - Tuesday\, December 13th from 2PM till 5:30PM
  at Lucky Dog Auction & Realty (770 Cornell Rd Rocky Mount\, 
 VA 24151)  Pickup/Removal - Wednesday\, December 14th from 1
 0AM till 5:30PM  Please Note: All items are sold as-is and 
 where-is. A 15% buyer premium applies to all purchases as do
 es VA sales tax. Receive a 3% discount off the premium by pa
 ying with cash or good check. 
URL:https://www.luckydogauction.com/auctions/detail/bw92805
SEQUENCE:1
END:VEVENT
END:VCALENDAR