BEGIN:VCALENDAR
VERSION:2.0
PRODID:-//ExpressionEngine Easy iCalendar plugin//NONSGML v2.0.1//EN
X-WR-TIMEZONE:America/New_York
X-WR-CALNAME:Upcoming Auctions
BEGIN:VEVENT
UID:94066
DTSTAMP:20221228T190000
DTSTART:20221228T190000
DTEND:20230109T190000
SUMMARY:Hunting Hills Downsizing Auction
LOCATION:Fox Den Rd\, Roanoke\, VA 24018\, US
DESCRIPTION:Hunting Hills Downsizing Auction  Bidding Opens - Wednesday
 \, December 28th at 7PM Bidding Closes - Monday\, January 9th 
 beginning at 7PM Preview/Open-House - Monday\, January 9th fr
 om 2PM till 5:30PM - 5322 Fox Den Rd Roanoke\, VA 24018 Remov
 al/Pickup - Tuesday\, January 10th from 10AM till 6PM - 5322
  Fox Den Rd Roanoke\, VA 24018 Please Note: All items are sol
 d as-is and where-is with no warranty expressed or implied. 
 A 15% buyer premium applies to all purchases\, as does VA sal
 es tax. Receive a 3% discount off the premium by paying with
  cash or good check. 
URL:https://www.luckydogauction.com/auctions/detail/bw94066
SEQUENCE:1
END:VEVENT
END:VCALENDAR