BEGIN:VCALENDAR
VERSION:2.0
PRODID:-//ExpressionEngine Easy iCalendar plugin//NONSGML v2.0.1//EN
X-WR-TIMEZONE:America/New_York
X-WR-CALNAME:Upcoming Auctions
BEGIN:VEVENT
UID:94132
DTSTAMP:20221230T190000
DTSTART:20221230T190000
DTEND:20230123T190000
SUMMARY:Moses Estate Coin Auction
LOCATION:770 Cornell Rd\, Rocky Mount\, VA 24151\, US
DESCRIPTION:Moses Estate Coin Auction Bidding Opens - Friday\, December 3
 0th at 7PM Bidding Closes - Monday\, January 23rd beginning a
 t 7PM Preview / Open-House - Monday\, January 23rd from 2PM 
 till 5:00PM  Pickup / Removal - Tuesday\, January 24th form 
 10AM till 5PM Please Note: All items are sold as-is and wher
 e-is with no warranty expressed or implied. A 15% buyer prem
 ium applies to all purchases\, as does VA sales tax. Receive 
 a 3% discount off the premium by paying with cash or good ch
 eck. 
URL:https://www.luckydogauction.com/auctions/detail/bw94132
SEQUENCE:1
END:VEVENT
END:VCALENDAR