BEGIN:VCALENDAR
VERSION:2.0
PRODID:-//ExpressionEngine Easy iCalendar plugin//NONSGML v2.0.1//EN
X-WR-TIMEZONE:America/New_York
X-WR-CALNAME:Upcoming Auctions
BEGIN:VEVENT
UID:94195
DTSTAMP:20221231T190000
DTSTART:20221231T190000
DTEND:20230116T110000
SUMMARY:Double-Wide Mobile Home Auction
LOCATION:770 Cornell Road\, Rocky Mount\, VA 24151\, US
DESCRIPTION:1991 Double-Wide Mobile Home - Online Auction  The home mea
 sures approx 52' x 27' and is currently at 2391 Lost Mountai
 n Rd Wirtz\, VA 24184. The land is NOT included in the sale. 
 This is for the mobile home only. Buyer is responsible for m
 oving and all associated cost. Buyer Responsibilities:  1) 
 Removal of the structure and attached decks from the propert
 y. 2)  Disconnecting of the electric\, water\, and septic. C
 apping lines\, etc.  3) The restoration of any areas (drivew
 ay\, yard\, etc) damaged by equipment during the move. 4) Prep
  and seed the area where the unit sat. 5) It is the responsi
 bility of the successful bidder to provide their own insuran
 ce and liability coverage.  Call Phillip Via at (540) 312-8
 569 with questions or to schedule a preview.  Bidding Opens
  - Saturday\, December 31st at 7PM Bidding Closes - Monday\, J
 anuary 16th at 11AM  Preview - By Appointment Only - Call P
 hillip Via (540) 312-8569  The mobile home is sold AS-IS an
 d WHERE-IS with no warranty expressed or implied. A 15% buye
 r premium applies to the purchase. Please read all terms and
  conditions prior to bidding. 
URL:https://www.luckydogauction.com/auctions/detail/bw94195
SEQUENCE:1
END:VEVENT
END:VCALENDAR