BEGIN:VCALENDAR
VERSION:2.0
PRODID:-//ExpressionEngine Easy iCalendar plugin//NONSGML v2.0.1//EN
X-WR-TIMEZONE:America/New_York
X-WR-CALNAME:Upcoming Auctions
BEGIN:VEVENT
UID:94752
DTSTAMP:20230313T190000
DTSTART:20230313T190000
DTEND:20230326T190000
SUMMARY:2nd Annual Spring Equipment Auction
LOCATION:770 Cornell Rd\, Rocky Mount\, VA 24151\, US
DESCRIPTION:2nd Annual Spring Equipment Auction  Bidding Opens - Monday
 \, March 13th at 7PM Bidding Closes - Sunday\, March 26th begi
 nning at 7PM Preview - Friday\, March 24th from 10AM till 6PM
  at 770 Cornell Rd Rocky Mount\, VA 24151 Pickup/Removal - Mo
 nday\, March 27th and Tuesday\, March 28th from 10AM till 5:30
 PM Please Note: All items are sold as-is and where-is with n
 o warranty expressed or implied. 15% buyer premium applies t
 o all purchases. Receive a 3% discount off the premium by pa
 ying with cash or check. Titles will be held until checks cl
 ear. No credit card payments for titled items. We also accep
 t wire transfers. 
URL:https://www.luckydogauction.com/auctions/detail/bw94752
SEQUENCE:1
END:VEVENT
END:VCALENDAR