BEGIN:VCALENDAR
VERSION:2.0
PRODID:-//ExpressionEngine Easy iCalendar plugin//NONSGML v2.0.1//EN
X-WR-TIMEZONE:America/New_York
X-WR-CALNAME:Upcoming Auctions
BEGIN:VEVENT
UID:95150
DTSTAMP:20230124T190000
DTSTART:20230124T190000
DTEND:20230130T190000
SUMMARY:Edmundson Living Estate Auction
LOCATION:770 Cornell Road\, Rocky Mount\, VA 24151\, US
DESCRIPTION:Edmundson Living Estate Auction  Bidding Opens - Tuesday\, J
 anuary 24th at 7PM Bidding Closes - Monday\, January 30th beg
 inning at 7PM Preview/Open-House - Monday\, January 30th from
  2PM till 5:30PM at 770 Cornell Rd Rocky Mount\, VA 24151 Rem
 oval/Pickup - Tuesday\, January 31st from 10AM till 5:30PM  
 Please Note: All items are sold as-is and where-is with no w
 arranty expressed or implied. A 15% buyer premium applies to
  all purchases\, as does VA sales tax. Receive a 3% discount 
 off the premium by paying with cash or good check. 
URL:https://www.luckydogauction.com/auctions/detail/bw95150
SEQUENCE:1
END:VEVENT
END:VCALENDAR