BEGIN:VCALENDAR
VERSION:2.0
PRODID:-//ExpressionEngine Easy iCalendar plugin//NONSGML v2.0.1//EN
X-WR-TIMEZONE:America/New_York
X-WR-CALNAME:Upcoming Auctions
BEGIN:VEVENT
UID:96011
DTSTAMP:20230209T190000
DTSTART:20230209T190000
DTEND:20230227T190000
SUMMARY:Winter Sportsman's Auction
LOCATION:770 Cornell Rd\, Rocky Mount\, VA 24092\, US
DESCRIPTION:Winter Sportsman's Auction Bidding Opens - Thursday\, Februar
 y 9th at 7PM Bidding Closes - Monday\, February 27th beginnin
 g at 7PM Preview/Open-House - Monday\, February 27th from 10A
 M till 5PM  Removal/Pickup - Tuesday\, February 28th from 10
 AM till 5:30PM Please Note: All items are sold as-is and whe
 re-is with no warranty expressed or implied. A 15% buyer pre
 mium applies to all purchases\, as does VA sales tax. Lucky D
 og Auction Company LLC is a licensed FFL dealer. All state a
 nd federal laws apply. There is a $15 transfer fee for 3 fir
 earms or less\, $20 for 4 or more. 
URL:https://www.luckydogauction.com/auctions/detail/bw96011
SEQUENCE:1
END:VEVENT
END:VCALENDAR