BEGIN:VCALENDAR
VERSION:2.0
PRODID:-//ExpressionEngine Easy iCalendar plugin//NONSGML v2.0.1//EN
X-WR-TIMEZONE:America/New_York
X-WR-CALNAME:Upcoming Auctions
BEGIN:VEVENT
UID:96446
DTSTAMP:20230222T190000
DTSTART:20230222T190000
DTEND:20230302T190000
SUMMARY:February Consignment Auction - Part 2
LOCATION:770 Cornell Rd\, Rocky Mount\, VA 24151\, US
DESCRIPTION:February Consignment Auction - Part 2  Bidding Opens - Wedn
 esday\, February 22nd at 7PM Bidding Closes - Thursday\, March
  2nd beginning at 7PM Preview/Open-House - Thursday\, March 2
 nd from 2PM till 5:30PM  Removal/Pickup - Friday\, March 3r
 d from 10AM till 5:30PM Please Note: All items are sold as-i
 s and where-is with no warranty expressed or implied. A 15% 
 buyer premium applies to all purchases\, as does VA sales tax
 . Receive a 3% discount off the premium by paying with cash 
 or check. Lucky Dog Auction is a licensed federal firearms d
 ealer. All state and federal laws apply. $15 transfer fee fo
 r up to 3 firearms purchased in the auction. 
URL:https://www.luckydogauction.com/auctions/detail/bw96446
SEQUENCE:1
END:VEVENT
END:VCALENDAR