BEGIN:VCALENDAR
VERSION:2.0
PRODID:-//ExpressionEngine Easy iCalendar plugin//NONSGML v2.0.1//EN
X-WR-TIMEZONE:America/New_York
X-WR-CALNAME:Upcoming Auctions
BEGIN:VEVENT
UID:96546
DTSTAMP:20230223T190000
DTSTART:20230223T190000
DTEND:20230305T190000
SUMMARY:Auto Shop Liquidation
LOCATION:770 Cornell Rd\, Rocky Mount\, VA 24151\, US
DESCRIPTION:Auto Shop Liquidation Bidding Opens - Thursday\, February 23r
 d at 7PM Bidding Closes - Sunday\, March 5th beginning at 7PM
  Preview/Open-House - Friday\, March 3rd from 2PM till 5:30PM
  Removal/Pickup - Monday\, March 6th from 10AM till 5:30PM Pl
 ease Note: All items are sold AS-IS and WHERE-IS with no war
 ranty expressed or implied. A 15% buyer premium applies to a
 ll purchase\, as does VA sales tax. Receive a 3% discount off
  the premium by paying with cash or good check. 
URL:https://www.luckydogauction.com/auctions/detail/bw96546
SEQUENCE:1
END:VEVENT
END:VCALENDAR