BEGIN:VCALENDAR
VERSION:2.0
PRODID:-//ExpressionEngine Easy iCalendar plugin//NONSGML v2.0.1//EN
X-WR-TIMEZONE:America/New_York
X-WR-CALNAME:Upcoming Auctions
BEGIN:VEVENT
UID:96809
DTSTAMP:20230324T190000
DTSTART:20230324T190000
DTEND:20230406T190000
SUMMARY:Spring Sportsman's Auction
LOCATION:770 Cornell Road\, Rocky Mount\, VA 24151\, US
DESCRIPTION:Spring Sportsman's Auction Now Accepting Consignments - Call
  Mike Smith at (540) 484-3320 for more details! We're accept
 ing firearms\, ammo\, hunting/fishing gear and other similar i
 tems.  Bidding Opens - Friday\, March 24th at 7PM Bidding Cl
 oses - Thursday\, April 6th beginning at 7PM Preview/Open-Hou
 se - Thursday\, April 6th from 10AM till 5PM Pickup/Removal 
 - Friday\, April 7th from 10AM till 5:30PM  Please Note: All
  items are sold as-is and where-is with no warranty expresse
 d or implied. A 15% buyer premium applies to all purchases\, 
 as does VA sales tax. Receive a 3% discount off the premium 
 by paying with cash or check. Lucky Dog Auction is a license
 d FFL dealer\, all state and federal laws apply. Transfer Fee
 : 1-3 Guns $15 fee plus VA Sales Tax. 4 or More Guns $20 plu
 s VA Sales Tax. 
URL:https://www.luckydogauction.com/auctions/detail/bw96809
SEQUENCE:1
END:VEVENT
END:VCALENDAR