BEGIN:VCALENDAR
VERSION:2.0
PRODID:-//ExpressionEngine Easy iCalendar plugin//NONSGML v2.0.1//EN
X-WR-TIMEZONE:America/New_York
X-WR-CALNAME:Upcoming Auctions
BEGIN:VEVENT
UID:96840
DTSTAMP:20230322T190000
DTSTART:20230322T190000
DTEND:20230330T190000
SUMMARY:March Consignment Auction
LOCATION:770 Cornell Road\, Rocky Mount\, VA 24151\, US
DESCRIPTION:March Consignment Auction Bidding Opens - Wednesday\, March 2
 2nd at 7PM Bidding Closes - Thursday\, March 30th beginning a
 t 7PM Preview/Open-House - Thursday\, March 30th from 2PM til
 l 5:30PM Removal/Pickup - Friday\, March 31st from 10AM till 
 5:30PM Please Note: All items are sold as-is and where-is wi
 th no warranty expressed or implied. A 15% buyer premium app
 lies to all purchases\, as does VA sales tax. Receive a 3% di
 scount off the premium by paying with cash or good check. We
  are a licensed FFL dealer all state and federal laws apply.
  $15 firearms transfer fee (Up To 3 Guns).
URL:https://www.luckydogauction.com/auctions/detail/bw96840
SEQUENCE:1
END:VEVENT
END:VCALENDAR