BEGIN:VCALENDAR
VERSION:2.0
PRODID:-//ExpressionEngine Easy iCalendar plugin//NONSGML v2.0.1//EN
X-WR-TIMEZONE:America/New_York
X-WR-CALNAME:Upcoming Auctions
BEGIN:VEVENT
UID:96849
DTSTAMP:20230310T190000
DTSTART:20230310T190000
DTEND:20230320T190000
SUMMARY:Timothy Banas Estate Auction
LOCATION:770 Cornell Rd\, Rocky Mount\, VA 24151\, US
DESCRIPTION:Timothy Banas Estate Auction Bidding Opens - Friday\, March 1
 0th at 7PM Bidding Closes - Monday\, March 20th beginning at 
 7PM Preview/Open-House - Monday\, March 20th from 2PM till 5:
 30PM Pickup/Removal - Tuesday\, March 21st from 10AM till 5:3
 0PM Please Note: All items are sold as-is and where-is with 
 no warranty expressed or implied. A 15% buyer premium applie
 s to all purchases\, as does VA sales tax. Receive a 3% disco
 unt off the premium by paying with cash or check. No sales w
 ill be collected for titled vehicles. 
URL:https://www.luckydogauction.com/auctions/detail/bw96849
SEQUENCE:1
END:VEVENT
END:VCALENDAR