BEGIN:VCALENDAR
VERSION:2.0
PRODID:-//ExpressionEngine Easy iCalendar plugin//NONSGML v2.0.1//EN
X-WR-TIMEZONE:America/New_York
X-WR-CALNAME:Upcoming Auctions
BEGIN:VEVENT
UID:97327
DTSTAMP:20230309T190000
DTSTART:20230309T190000
DTEND:20230410T110000
SUMMARY:600 Mountain Mist Dr (Martinsville) Real Estate Auction
LOCATION:{location}
DESCRIPTION:We are offering at online auction the real estate and impro
 vements located at 600 Mountain Mist Drive Martinsville\, VA 
 24112. This property is 1.7+/- acres improved by a 2\,850 sq
 . ft brick ranch with basement. This home has 3 bedrooms\, 
 2 baths\, and all appliances convey.
URL:https://www.luckydogauction.com/auctions/detail/bw97327
SEQUENCE:1
END:VEVENT
END:VCALENDAR