BEGIN:VCALENDAR
VERSION:2.0
PRODID:-//ExpressionEngine Easy iCalendar plugin//NONSGML v2.0.1//EN
X-WR-TIMEZONE:America/New_York
X-WR-CALNAME:Upcoming Auctions
BEGIN:VEVENT
UID:98827
DTSTAMP:20230405T190000
DTSTART:20230405T190000
DTEND:20230413T190000
SUMMARY:442 Jubal Early Hwy (Wirtz\, VA) Estate
LOCATION:442 Jubal Early Hwy\, Wirtz\, VA 24184\, US
DESCRIPTION:442 Jubal Early Estate Auction Bidding Opens - Thursday\, Apr
 il 5 at 7PM Bidding Closes - Thursday\, April 13 at 7PM Previ
 ew/Open-House - Thursday\, April 13 from 2PM till 5:30PM Pick
 up/Removal - Friday\, April 14th from 10AM till 5:30PM Please
  Note:  All items are sold as-is and where-is with no warra
 nty expressed or implied. A 15% buyer premium applies to all
  purchases\, as does VA sales tax. Receive a 3% discount off 
 the premium by paying with cash or good check. 
URL:https://www.luckydogauction.com/auctions/detail/bw98827
SEQUENCE:1
END:VEVENT
END:VCALENDAR