BEGIN:VCALENDAR
VERSION:2.0
PRODID:-//ExpressionEngine Easy iCalendar plugin//NONSGML v2.0.1//EN
X-WR-TIMEZONE:America/New_York
X-WR-CALNAME:Upcoming Auctions
BEGIN:VEVENT
UID:99430
DTSTAMP:20230519T190000
DTSTART:20230519T190000
DTEND:20230608T190000
SUMMARY:May 2nd Amendment Auction
LOCATION:770 Cornell Road\, Rocky Mount\, VA 24151\, US
DESCRIPTION:May 2nd Amendment Auction Due to scheduling conflicts\, the a
 uction has been extended to better accommodate the transfer
  process with more staff. We apologize for having to adjust 
 the dates but\, appreciated your cooperation.  Bidding Opens
  - Friday\, May 19th at 7PM Bidding Closes - Thursday\, June 8
 th beginning at 7PM Preview/Open-House - Thursday\, June 8th 
 from NOON till 5PM Removal/Pickup - Friday\, June 9th from 10
 AM till 5:30PM Please Note: All items are sold as-is and wh
 ere-is with no warranty expressed or implied. Lucky Dog Auct
 ion is a licensed FFL Dealer - All local\, state\, and federal
  laws apply.  There is a $15 transfer fee for up to 3 firea
 rms\, $20 for 4 or more. A 15% buyer premium applies to all p
 urchases\, as does VA sales tax. Pay with cash or good check 
 and receive a 3% discount off the premium. Items not claimed
 /removed on pickup date will be assessed a $7 alternate pick
 up fee. Furniture and other large items (that will not fit i
 n a box) will be subject to an additional $20 storage fee. A
 ll invoices must be paid within 24 hours of auction ending.
URL:https://www.luckydogauction.com/auctions/detail/bw99430
SEQUENCE:1
END:VEVENT
END:VCALENDAR