BEGIN:VCALENDAR
VERSION:2.0
PRODID:-//ExpressionEngine Easy iCalendar plugin//NONSGML v2.0.1//EN
X-WR-TIMEZONE:America/New_York
X-WR-CALNAME:Upcoming Auctions
BEGIN:VEVENT
UID:99433
DTSTAMP:20230430T190000
DTSTART:20230430T190000
DTEND:20230510T190000
SUMMARY:Silver - Gold - Coin & Currency Auction
LOCATION:770 Cornell Road\, Rocky Mount\, VA 24151\, US
DESCRIPTION:Silver - Gold - Coin & Currency Auction Bidding Opens - Sund
 ay\, April 30th at 7PM Bidding Closes - Wednesday\, May 10th b
 eginning at 7PM Preview/Open-House - Wednesday\, May 10th fro
 m 2PM till 5PM Removal/Pickup - Thursday\, May 11th from 10AM
  till 5PM Please Note: All items are sold as-is and where-i
 s with no warranty expressed or implied. A 15% buyer premium
  applies to all purchases\, as does VA sales tax. Pay with ca
 sh or good check and receive a 3% discount off the premium. 
 Items not claimed/removed on pickup date will be assessed a 
 $7 alternate pickup fee. Furniture and other large items (th
 at will not fit in a box) will be subject to an additional $
 20 storage fee. All invoices must be paid within 24 hours of
  auction ending.
URL:https://www.luckydogauction.com/auctions/detail/bw99433
SEQUENCE:1
END:VEVENT
END:VCALENDAR